BEGIN:VCALENDAR
VERSION:2.0
PRODID:-//ChamberMaster//Event Calendar 2.0//EN
METHOD:PUBLISH
X-PUBLISHED-TTL:P3D
REFRESH-INTERVAL:P3D
CALSCALE:GREGORIAN
BEGIN:VEVENT
DTSTART:20220726T133000Z
DTEND:20220726T143000Z
X-MICROSOFT-CDO-ALLDAYEVENT:FALSE
SUMMARY:Wake Forest Young Professionals Breakfast Meeting
DESCRIPTION:Join us for our Young Professionals monthly breakfast meeting. If you are under 40 years of age\, you qualify to attend!  Join in for a round table discussion and meet the Chambers new Membership Director Kristen Barrick!\n\n \n\nThe Chamber's Young Professionals program was created to help you expertly navigate the world of work and professional development. Become your community's next generation business leader\, and take your career to the next level\, by cultivating relationships with other successful business professionals and connecting to other young professionals who encounter the same business questions as you. You'll build your confidence as a business leader and enhance your network through our Young Professionals group.\n\n\n\nRegistration is required.
X-ALT-DESC;FMTTYPE=text/html:<br />\nJoin us for our Young Professionals monthly breakfast meeting. If you are under 40 years of age\, you qualify to attend!&nbsp\; Join in for a round table discussion and meet the Chambers new Membership Director Kristen Barrick!<br />\n&nbsp\;<br />\nThe Chamber&rsquo\;s Young Professionals program was created to help you expertly navigate the world of work and professional development. Become your community&#39\;s next generation business leader\, and take your career to the next level\, by cultivating relationships with other successful business professionals and connecting to other young professionals who encounter the same business questions as you. You&rsquo\;ll build your confidence as a business leader and enhance your network through our Young Professionals group.<br />\n<br />\nRegistration is required.&nbsp\;<br />\n<br />\n&nbsp\;
LOCATION:Arnold Palmer Room The Loading Dock 525 S. White Street Wake Forest\, NC 27587
UID:e.242.24268
SEQUENCE:3
DTSTAMP:20260420T091542Z
URL:https://chambermaster.wakeforestchamber.org/events/details/wake-forest-young-professionals-breakfast-meeting-07-26-2022-24268
END:VEVENT

END:VCALENDAR
