BEGIN:VCALENDAR
VERSION:2.0
PRODID:-//ChamberMaster//Event Calendar 2.0//EN
METHOD:PUBLISH
X-PUBLISHED-TTL:P3D
REFRESH-INTERVAL:P3D
CALSCALE:GREGORIAN
BEGIN:VEVENT
DTSTART:20200402T190000Z
DTEND:20200402T194500Z
X-MICROSOFT-CDO-ALLDAYEVENT:FALSE
SUMMARY:Telemedicine (RelyMD) Webinar
DESCRIPTION:Join Mike Harris of Rely MD as he explains affordable telemedicine options that employers can provide to assist their workforce.\n\n\n\nTo join meeting: https://wakeforestchamber.webex.com/wakeforestchamber/onstage/g.php?MTID=eb022e55a56c30a210668792888b0cc0b
X-ALT-DESC;FMTTYPE=text/html:Join Mike Harris of Rely MD as he explains affordable telemedicine options that employers can provide to assist their workforce.<br />\n<br />\nTo join meeting:&nbsp\;<span style="font-family:calibri\,sans-serif\;"><span style="font-size:11.0pt\;"><a href="https://wakeforestchamber.webex.com/wakeforestchamber/onstage/g.php?MTID=eb022e55a56c30a210668792888b0cc0b">https://wakeforestchamber.webex.com/wakeforestchamber/onstage/g.php?MTID=eb022e55a56c30a210668792888b0cc0b</a></span></span>
LOCATION:Wherever you are!
UID:e.242.22324
SEQUENCE:3
DTSTAMP:20260423T090747Z
URL:https://chambermaster.wakeforestchamber.org/events/details/telemedicine-relymd-webinar-22324
END:VEVENT

END:VCALENDAR
