BEGIN:VCALENDAR
VERSION:2.0
PRODID:-//ChamberMaster//Event Calendar 2.0//EN
METHOD:PUBLISH
X-PUBLISHED-TTL:P3D
REFRESH-INTERVAL:P3D
CALSCALE:GREGORIAN
BEGIN:VEVENT
DTSTART:20260310T120000Z
DTEND:20260310T133000Z
X-MICROSOFT-CDO-ALLDAYEVENT:FALSE
SUMMARY:Social Media Made Simple: Tools\, Timing\, and Templates
DESCRIPTION:Social media doesn't have to feel like a second full-time job. \n\n\n\nJoin us for Social Media Made Simple\, led by the always dynamic Kim Kaid of Kaid Marketing. Kim brings the perfect mix of strategy\, creativity\, and real-world practicality. (and our attendees consistently rave about her sessions)\n\n\n\nIn this interactive workshop\, you'll learn:\n\n	Which platforms actually make sense for your business (hint: not all of them)\n	How to create eye-catching graphics using simple\, customizable templates\n	What to post\, when to post\, and how to stay consistent without burning out\n\n Kim will break it all down in a way that's current\, clear\, and immediatey actionable. You'll leave with practical tools\, renewed confidence\, and a realistic plan that makes social media work for your business... not the other way around. \n\n\n\nIf you've ever thought "I know I should be doing more online\, but I don't know where to start\," this class is for you.
X-ALT-DESC;FMTTYPE=text/html:<span style="font-size:20px\;">Social media doesn&#39\;t have to feel like a second full-time job.&nbsp\;<br />\n<br />\nJoin us for Social Media Made Simple\, led by the always dynamic Kim Kaid of <u><strong><a href="https://www.kaidmarketing.com/"><span style="color:#006400\;">Kaid Marketing</span></a></strong></u>. Kim brings the perfect mix of strategy\, creativity\, and real-world practicality. (and our attendees consistently rave about her sessions)<br />\n<br />\nIn this interactive workshop\, you&#39\;ll learn:</span>\n<ul>\n	<li><span style="font-size:20px\;">Which platforms actually make sense for your business (hint: not all of them)</span></li>\n	<li><span style="font-size:20px\;">How to create eye-catching graphics using simple\, customizable templates</span></li>\n	<li><span style="font-size:20px\;">What to post\, when to post\, and how to stay consistent without burning out</span></li>\n</ul>\n<span style="font-size:20px\;"> Kim will break it all down in a way that&#39\;s current\, clear\, and immediatey actionable. You&#39\;ll leave with practical tools\, renewed confidence\, and a realistic plan that makes social media work for your business... not the other way around.&nbsp\;<br />\n<br />\nIf you&#39\;ve ever thought &quot\;I know I should be doing more online\, but I don&#39\;t know where to start\,&quot\; this class is for you.</span>
LOCATION:Wake Forest Area Chamber North State Bank Conference Room 350 S White Street Wake Forest\, NC 27587
UID:e.242.27681
SEQUENCE:3
DTSTAMP:20260423T090941Z
URL:https://chambermaster.wakeforestchamber.org/events/details/social-media-made-simple-tools-timing-and-templates-27681
END:VEVENT

END:VCALENDAR
