BEGIN:VCALENDAR
VERSION:2.0
PRODID:-//ChamberMaster//Event Calendar 2.0//EN
METHOD:PUBLISH
X-PUBLISHED-TTL:P3D
REFRESH-INTERVAL:P3D
CALSCALE:GREGORIAN
BEGIN:VEVENT
DTSTART:20210204T000000Z
DTEND:20210204T010000Z
X-MICROSOFT-CDO-ALLDAYEVENT:FALSE
SUMMARY:Ribbon Cutting: Wine & Ritas - The Sisterhood
DESCRIPTION:Attention: Ladies of Women's Business Alliance! Help us celebrate one of our newest women-owned businesses\, Wine and Ritas - The Sisterhood\, with a ribbon cutting!  \n\n\n\nCome meet Nikia Zaremba and learn all about Wine and Ritas - The Sisterhood.  Light hors d'oeuvres and wine will be provided. Catch up with all our ladies of Women's Business Alliance.  \n\n\n\nBecause we want to provide a safe COVID-free environment\, we ask that you bring a mask and please wear it when not eating or drinking.\n\n\n\nOrders for wine gift boxes and picnic baskets will be taken at this event. Attendees will receive a 15% discount on all orders placed during the event. Gift boxes and picnic baskets will ship the next day.
X-ALT-DESC;FMTTYPE=text/html:<br />\nAttention: Ladies of Women&#39\;s Business Alliance! Help us&nbsp\;celebrate one of our newest women-owned businesses\, Wine and Ritas - The Sisterhood\, with a ribbon cutting!&nbsp\;&nbsp\;<br />\n<br />\nCome meet Nikia Zaremba and learn all about Wine and Ritas - The Sisterhood.&nbsp\; Light hors d&#39\;oeuvres and wine will be provided. Catch up with all our ladies of Women&#39\;s Business Alliance.&nbsp\;&nbsp\;<br />\n<br />\nBecause we want to provide a safe COVID-free environment\, we ask that you bring a mask and please wear it when not eating or drinking.<br />\n<br />\nOrders for wine gift boxes and picnic baskets will be taken at this event. Attendees will receive a 15% discount on all orders placed during the event. Gift boxes and picnic baskets will ship the next day.<br />\n<br />\n&nbsp\;
LOCATION:The Cotton Company Upstairs Banquet Room 306 S. White Street Wake Forest\, NC 27587
UID:e.242.23263
SEQUENCE:3
DTSTAMP:20260420T091707Z
URL:https://chambermaster.wakeforestchamber.org/events/details/ribbon-cutting-wine-ritas-the-sisterhood-23263
END:VEVENT

END:VCALENDAR
