BEGIN:VCALENDAR
VERSION:2.0
PRODID:-//ChamberMaster//Event Calendar 2.0//EN
METHOD:PUBLISH
X-PUBLISHED-TTL:P3D
REFRESH-INTERVAL:P3D
CALSCALE:GREGORIAN
BEGIN:VEVENT
DTSTART:20260414T120000Z
DTEND:20260414T133000Z
X-MICROSOFT-CDO-ALLDAYEVENT:FALSE
SUMMARY:Help Wanted: HR 101
DESCRIPTION:Hiring your first employee- or building a small team- can be both exciting and overwhelming. This practical session will walk you through the HR basics every small business owner should know\, from recruiting and onboarding to legal compliance and retention strategies. Learn directly from experienced Chamber members as they sharereal-world advice and actionable tips tailored to growing businesses in our region.
X-ALT-DESC;FMTTYPE=text/html:<br>\n<span style="font-size:18px\;"><span style="font-family: Arial\;">Hiring your first employee- or building a small team- can be both exciting and overwhelming. This practical session will walk you through the HR basics every small business owner should know\, from recruiting and onboarding to legal compliance and retention strategies. Learn directly from experienced Chamber members as they sharereal-world advice and actionable tips tailored to growing businesses in our region.</span></span><br>\n&nbsp\;
LOCATION:Loading Dock\, Wake Forest 252 S White St Wake Forest\, NC 27587
UID:e.242.27682
SEQUENCE:3
DTSTAMP:20260422T171707Z
URL:https://chambermaster.wakeforestchamber.org/events/details/help-wanted-hr-101-27682
END:VEVENT

END:VCALENDAR
