BEGIN:VCALENDAR
VERSION:2.0
PRODID:-//ChamberMaster//Event Calendar 2.0//EN
METHOD:PUBLISH
X-PUBLISHED-TTL:P3D
REFRESH-INTERVAL:P3D
CALSCALE:GREGORIAN
BEGIN:VEVENT
DTSTART:20210617T223000Z
DTEND:20210617T233000Z
X-MICROSOFT-CDO-ALLDAYEVENT:FALSE
SUMMARY:Fantasy Book Club
DESCRIPTION:This month's selection is VICIOUS by V. E. Schwab. This book club will meet online. Please email info@page158books.com to be added to the event.
X-ALT-DESC;FMTTYPE=text/html:<p><span style="background-color:transparent\; color:rgb(0\, 0\, 0)\; font-family:arial\; font-size:11pt">This month&#39\;s selection is VICIOUS by V. E. Schwab. This book club will meet online. Please email info@page158books.com to be added to the event.</span></p>\n\n<div>&nbsp\;</div>\n
LOCATION:
UID:e.242.23907
SEQUENCE:3
DTSTAMP:20260420T091334Z
URL:https://chambermaster.wakeforestchamber.org/events/details/fantasy-book-club-06-17-2021-23907
END:VEVENT

END:VCALENDAR
