BEGIN:VCALENDAR
VERSION:2.0
PRODID:-//ChamberMaster//Event Calendar 2.0//EN
METHOD:PUBLISH
X-PUBLISHED-TTL:P3D
REFRESH-INTERVAL:P3D
CALSCALE:GREGORIAN
BEGIN:VEVENT
DTSTART:20210121T233000Z
DTEND:20210122T003000Z
X-MICROSOFT-CDO-ALLDAYEVENT:FALSE
SUMMARY:Fantasy Book Club
DESCRIPTION:This month's selection is THE ONCE AND FUTURE KING by T. H. White. This book club will meet online. Please email info@page158books.com to be added to the event.
X-ALT-DESC;FMTTYPE=text/html:<p><span style="background-color:transparent\; color:rgb(0\, 0\, 0)\; font-family:arial\; font-size:11pt">This month&rsquo\;s selection is THE ONCE AND FUTURE KING by T. H. White. This book club will meet online. Please email info@page158books.com to be added to the event.</span></p>\n
LOCATION:
UID:e.242.23203
SEQUENCE:3
DTSTAMP:20260423T104744Z
URL:https://chambermaster.wakeforestchamber.org/events/details/fantasy-book-club-01-21-2021-23203
END:VEVENT

END:VCALENDAR
