BEGIN:VCALENDAR
VERSION:2.0
PRODID:-//ChamberMaster//Event Calendar 2.0//EN
METHOD:PUBLISH
X-PUBLISHED-TTL:P3D
REFRESH-INTERVAL:P3D
CALSCALE:GREGORIAN
BEGIN:VEVENT
DTSTART:20260716T210000Z
DTEND:20260716T230000Z
X-MICROSOFT-CDO-ALLDAYEVENT:FALSE
SUMMARY:Business After Hours- Wake Forest FUNGO
DESCRIPTION:Business After Hours at the Ballpark   \n\n\n\nJoin us for a summer evening of connection\, community\, and collegiate baseball as we host Business After Hours at the Wake Forest FUNGO ballpark. (Flaherty Park Field 2)\n\n\n\nThis isn't your typical networking event. Enjoy a relaxed\, outdoor setting with great energy\, local business leaders\, and a firsthand look at one of Wake Forest's favorite summer traditions.\n\n\n\nBring plenty of business cards\, dress for the weather\, and come ready to connect. We are excited to Roll FUNGO with you!
X-ALT-DESC;FMTTYPE=text/html:<span style="font-size:22px\;"><strong>&#127795\;&#9918\;Business After Hours at the Ballpark</strong> &#9918\;&#127795\;<br />\n<br />\nJoin us for a summer evening of connection\, community\, and collegiate baseball as we host Business After Hours at the Wake Forest FUNGO ballpark. (Flaherty Park Field 2)<br />\n<br />\nThis isn&#39\;t your typical networking event. Enjoy a relaxed\, outdoor setting with great energy\, local business leaders\, and a firsthand look at one of Wake Forest&#39\;s favorite summer traditions.<br />\n<br />\nBring plenty of business cards\, dress for the weather\, and come ready to connect. We are excited to Roll FUNGO with you!&nbsp\;</span>
LOCATION:
UID:e.242.28874
SEQUENCE:3
DTSTAMP:20260422T223943Z
URL:https://chambermaster.wakeforestchamber.org/events/details/business-after-hours-wake-forest-fungo-28874
END:VEVENT

END:VCALENDAR
