BEGIN:VCALENDAR
VERSION:2.0
PRODID:-//ChamberMaster//Event Calendar 2.0//EN
METHOD:PUBLISH
X-PUBLISHED-TTL:P3D
REFRESH-INTERVAL:P3D
CALSCALE:GREGORIAN
BEGIN:VEVENT
DTSTART:20260408T160000Z
DTEND:20260408T173000Z
X-MICROSOFT-CDO-ALLDAYEVENT:FALSE
SUMMARY:AI Series: Building an AI-Enhanced Website & Chatbot
DESCRIPTION:Your website can do more than share information- it can actively enage visitors\, capture leads\, and support customers around the clock. In this practical session\, faciliated by Lauri Arnsten of Arts-n-Media\, a local creative marketing professional specializing in helping businesses be seen\, found\, and chosen\, participants will explore easy\, no-code tools that bring AI-powered features to life.\n\n\n\nYou'll learn how to add chatbots for customer service\, lead generation\, and basic support- enhancing your website experience without complex development or technical expertise. Whether you're looking to streamline communication or create a more interactive online presence\, this session will provide approachable\, real-world strategies to get started.
X-ALT-DESC;FMTTYPE=text/html:<span style="font-size:22px\;">Your website can do more than share information- it can actively enage visitors\, capture leads\, and support customers around the clock. In this practical session\, faciliated by <strong><a href="https://www.arts-n.com/"><span style="color:#006400\;">Lauri Arnsten of Arts-n-Media</span></a></strong>\, a local creative marketing professional specializing in helping businesses be seen\, found\, and chosen\, participants will explore easy\, no-code tools that bring AI-powered features to life.<br />\n<br />\nYou&#39\;ll learn how to add chatbots for customer service\, lead generation\, and basic support- enhancing your website experience without complex development or technical expertise. Whether you&#39\;re looking to streamline communication or create a more interactive online presence\, this session will provide approachable\, real-world strategies to get started.&nbsp\;</span><br />\n&nbsp\;
LOCATION:Loading Dock\, Wake Forest 525 S White Street Wake Forest\, NC 27587
UID:e.242.28444
SEQUENCE:3
DTSTAMP:20260422T171850Z
URL:https://chambermaster.wakeforestchamber.org/events/details/ai-series-building-an-ai-enhanced-website-chatbot-28444
END:VEVENT

END:VCALENDAR
