BEGIN:VCALENDAR
VERSION:2.0
PRODID:-//ChamberMaster//Event Calendar 2.0//EN
METHOD:PUBLISH
X-PUBLISHED-TTL:P3D
REFRESH-INTERVAL:P3D
CALSCALE:GREGORIAN
BEGIN:VEVENT
DTSTART:20260218T170000Z
DTEND:20260218T183000Z
X-MICROSOFT-CDO-ALLDAYEVENT:FALSE
SUMMARY:AI Series: Automating Daily Tasks & Workflows
DESCRIPTION:If you're doing the same task over and over... it's time to automate it. \n\nJoin Bill Bowser of StoredTech for a hands-on session built for real businesses with real workloads. This isn't theory. It's practical automation you can put in place immediately.\n\nStop manualy sending follow-ups\, chasing emails\, or re-entering hte same information in three different places.\n\nBill will walk you thorugh how simple automation tools and AI assistants can:\n\n-Handle routine admin tasks\n\n-Reduce human error\n\n-Creat seamless workflows\n\n-Free up hours every single week\n\nNo advanced tech background required. Just a willingness to stop wasting time.
X-ALT-DESC;FMTTYPE=text/html:<span style="font-size:20px\;">If you&#39\;re doing the same task over and over... it&#39\;s time to automate it.&nbsp\;<br />\nJoin <span style="color:#2F4F4F\;"><strong>Bill Bowser</strong></span> of <u><strong><a href="https://storedtech.com/"><span style="color:#2F4F4F\;">StoredTech</span></a></strong></u> for a hands-on session built for real businesses with real workloads. This isn&#39\;t theory. It&#39\;s practical automation you can put in place immediately.<br />\nStop manualy sending follow-ups\, chasing emails\, or re-entering hte same information in three different places.<br />\nBill will walk you thorugh how simple automation tools and AI assistants can:<br />\n-Handle routine admin tasks<br />\n-Reduce human error<br />\n-Creat seamless workflows<br />\n-Free up hours every single week<br />\nNo advanced tech background required. Just a willingness to stop wasting time.&nbsp\;&nbsp\;</span>
LOCATION:Wake Forest Area Chamber of Commerce 350 S White Street Wake Forest\, NC 27587
UID:e.242.28442
SEQUENCE:3
DTSTAMP:20260420T162106Z
URL:https://chambermaster.wakeforestchamber.org/events/details/ai-series-automating-daily-tasks-workflows-28442
END:VEVENT

END:VCALENDAR
