BEGIN:VCALENDAR
VERSION:2.0
PRODID:-//ChamberMaster//Event Calendar 2.0//EN
METHOD:PUBLISH
X-PUBLISHED-TTL:P3D
REFRESH-INTERVAL:P3D
CALSCALE:GREGORIAN
BEGIN:VEVENT
DTSTART:20260317T120000Z
DTEND:20260317T133000Z
X-MICROSOFT-CDO-ALLDAYEVENT:FALSE
SUMMARY:AI Series: AI Strategy & Ethics for Long-Term Growth
DESCRIPTION:As AI becomes more embedded in daily operations\, businesses must think beyond tools and focus on long-term strategy\, responsibility\, and trust.\n\nThis session explores how to align AI adoption wiht your organization's values\, goals\, and governance needs. Participants will examine responsible AI practices\, data privacy considerations\, and transparency standards that support sustainable growth while managing risk.\n\nYou'll explore:\n\n	Responsible AI use and ethical considerations\n	Data privacy\, transparency\, and governance frameworks\n	Aligning AI initiatives with long-term business goals
X-ALT-DESC;FMTTYPE=text/html:As AI becomes more embedded in daily operations\, businesses must think beyond tools and focus on long-term strategy\, responsibility\, and trust.<br />\nThis session explores how to align AI adoption wiht your organization&#39\;s values\, goals\, and governance needs. Participants will examine responsible AI practices\, data privacy considerations\, and transparency standards that support sustainable growth while managing risk.<br />\nYou&#39\;ll explore:\n<ul>\n	<li>Responsible AI use and ethical considerations</li>\n	<li>Data privacy\, transparency\, and governance frameworks</li>\n	<li>Aligning AI initiatives with long-term business goals</li>\n</ul>\n
LOCATION:Wake Forest Area Chamber of Commerce 350 S White Street Wake Forest\, NC 27587
UID:e.242.28443
SEQUENCE:3
DTSTAMP:20260420T162030Z
URL:https://chambermaster.wakeforestchamber.org/events/details/ai-series-ai-strategy-ethics-for-long-term-growth-28443
END:VEVENT

END:VCALENDAR
