BEGIN:VCALENDAR
VERSION:2.0
PRODID:-//ChamberMaster//Event Calendar 2.0//EN
METHOD:PUBLISH
X-PUBLISHED-TTL:P3D
REFRESH-INTERVAL:P3D
CALSCALE:GREGORIAN
BEGIN:VEVENT
DTSTART:20260513T120000Z
DTEND:20260513T133000Z
X-MICROSOFT-CDO-ALLDAYEVENT:FALSE
SUMMARY:AI Series: AI-Powered Content Strategy
DESCRIPTION:Creating consistent\, high-quality content doesn't have to be overwhelming. This session shows how AI tools can support content planning\, writing\, and mulitmedia creation- while keeping your message authentic and aligned with your brand.\n\n\n\nParticipants will explore how AI can enhance SEO\, streamline long-form writing\, and support video and audio content production. The focus is on practical workflows that save time and help maintain a steady\, strategic content presence.
X-ALT-DESC;FMTTYPE=text/html:Creating consistent\, high-quality content doesn&#39\;t have to be overwhelming. This session shows how AI tools can support content planning\, writing\, and mulitmedia creation- while keeping your message authentic and aligned with your brand.<br />\n<br />\nParticipants will explore how AI can enhance SEO\, streamline long-form writing\, and support video and audio content production. The focus is on practical workflows that save time and help maintain a steady\, strategic content presence.
LOCATION:Wake Forest Area Chamber of Commerce 350 S White Street Wake Forest\, NC 27587
UID:e.242.28445
SEQUENCE:3
DTSTAMP:20260422T185707Z
URL:https://chambermaster.wakeforestchamber.org/events/details/ai-series-ai-powered-content-strategy-28445
END:VEVENT

END:VCALENDAR
